BEGIN:VCALENDAR
VERSION:2.0
PRODID:-//Tukios.com/
BEGIN:VEVENT
UID:712d7e94-afbf-4f3b-9768-231749bc4a96@obits.eastlawn.com
DTSTAMP:20260423T025350Z
DTSTART:20260430T190000Z
DTEND:20260430T200000Z
SUMMARY:Funeral Service
DESCRIPTION:
URL:https://obits.eastlawn.com/mark-minnis
LOCATION: 4300 Folsom Blvd  Sacramento CA 95819
GEO:38.5612796;-121.4520456
END:VEVENT
END:VCALENDAR