BEGIN:VCALENDAR
VERSION:2.0
PRODID:-//Tukios.com/
BEGIN:VEVENT
UID:9a6b7e9c-458c-456b-9c60-94699ea88714@obits.eastlawn.com
DTSTAMP:20260425T002228Z
DTSTART:20260508T183000Z
DTEND:20260508T190000Z
SUMMARY:Burial
DESCRIPTION:
URL:https://obits.eastlawn.com/eling-kwong
LOCATION: 4300 Folsom Blvd  Sacramento CA 95819
GEO:38.5612796;-121.4520456
END:VEVENT
END:VCALENDAR