BEGIN:VCALENDAR
VERSION:2.0
PRODID:-//Tukios.com/
BEGIN:VEVENT
UID:eaccbdf5-1489-437e-8236-33355f9ed509@obits.eastlawn.com
DTSTAMP:20260425T002207Z
DTSTART:20260508T160000Z
DTEND:20260508T180000Z
SUMMARY:Funeral Service
DESCRIPTION:
URL:https://obits.eastlawn.com/eling-kwong
LOCATION: 4300 Folsom Blvd  Sacramento CA 95819
GEO:38.5612796;-121.4520456
END:VEVENT
END:VCALENDAR