BEGIN:VCALENDAR
VERSION:2.0
PRODID:-//Tukios.com/
BEGIN:VEVENT
UID:fb85dc5a-868b-4d37-acb1-d914a3f3c572@obits.eastlawn.com
DTSTAMP:20260424T192529Z
DTSTART:20260429T170000Z
DTEND:20260429T180000Z
SUMMARY:Celebration of Life
DESCRIPTION:
URL:https://obits.eastlawn.com/diane-truly
LOCATION: 4300 Folsom Blvd  Sacramento CA 95819
GEO:38.5612796;-121.4520456
END:VEVENT
END:VCALENDAR